BEGIN:VCALENDAR
VERSION:2.0
PRODID:-//Qalipu - ECPv4.5.13//NONSGML v1.0//EN
CALSCALE:GREGORIAN
METHOD:PUBLISH
X-WR-CALNAME:Qalipu
X-ORIGINAL-URL:https://qalipu.ca
X-WR-CALDESC:Events for Qalipu
BEGIN:VEVENT
DTSTART;TZID=UTC-3.5:20181215T140000
DTEND;TZID=UTC-3.5:20181215T210000
DTSTAMP:20260424T213228
CREATED:20181207T123639Z
LAST-MODIFIED:20181207T123639Z
UID:9982-1544882400-1544907600@qalipu.ca
SUMMARY:Community Engagement Sessions for Indigenous Women
DESCRIPTION:
URL:https://qalipu.ca/event/community-engagement-sessions-for-indigenous-women/
LOCATION:28 Hardy Ave\, Grand Falls-Windsor\, NL\, Canada
CATEGORIES:General
ATTACH;FMTTYPE=image/jpeg:https://qalipu.ca/qalipu/wp-content/uploads/2018/12/image001-1.jpg
END:VEVENT
BEGIN:VEVENT
DTSTART;TZID=UTC-3.5:20181215T180000
DTEND;TZID=UTC-3.5:20181215T180000
DTSTAMP:20260424T213228
CREATED:20181203T134047Z
LAST-MODIFIED:20181203T134047Z
UID:9952-1544896800-1544896800@qalipu.ca
SUMMARY:Elders Christmas Hamper - Benoit 1st Nation
DESCRIPTION:
URL:https://qalipu.ca/event/elders-christmas-hamper-benoit-1st-nation/
LOCATION:811 Oceanview Drive\, Degrau\, NL\, A0N 1T1\, Canada
CATEGORIES:General
ATTACH;FMTTYPE=image/jpeg:https://qalipu.ca/qalipu/wp-content/uploads/2018/12/2018-xmas-hamper.jpg
END:VEVENT
BEGIN:VEVENT
DTSTART;TZID=UTC-3.5:20181215T190000
DTEND;TZID=UTC-3.5:20181215T210000
DTSTAMP:20260424T213228
CREATED:20181203T134205Z
LAST-MODIFIED:20181203T134205Z
UID:9955-1544900400-1544907600@qalipu.ca
SUMMARY:Christmas PreTeen Dance - Benoit 1st Nation
DESCRIPTION:
URL:https://qalipu.ca/event/christmas-preteen-dance-benoit-1st-nation/
LOCATION:811 Oceanview Drive\, Degrau\, NL\, A0N 1T1\, Canada
CATEGORIES:General
ATTACH;FMTTYPE=image/jpeg:https://qalipu.ca/qalipu/wp-content/uploads/2018/12/christmas-PRETEEN-2018-DANCE-PARTY4.jpg
END:VEVENT
END:VCALENDAR