BEGIN:VCALENDAR
VERSION:2.0
PRODID:-//Qalipu - ECPv4.5.13//NONSGML v1.0//EN
CALSCALE:GREGORIAN
METHOD:PUBLISH
X-WR-CALNAME:Qalipu
X-ORIGINAL-URL:https://qalipu.ca
X-WR-CALDESC:Events for Qalipu
BEGIN:VEVENT
DTSTART;VALUE=DATE:20190114
DTEND;VALUE=DATE:20190118
DTSTAMP:20260424T194817
CREATED:20190111T152024Z
LAST-MODIFIED:20190111T152024Z
UID:10081-1547424000-1547855999@qalipu.ca
SUMMARY:Indigenous Peoples Week - January 2019
DESCRIPTION:Monday\, January 14:  \n\nStrategic Indigenization Plan: What We’ve Heard\, Catharyn Andersen\, Special Advisor on Aboriginal Affairs\n\n12:30pm-2:00pm\, AS Atrium\n\n\nIndigenous Film Screening: The Courage to Remember: Stories of Our Labrador Residential School Experience\n\n3:00pm-5:00pm (includes discussion)\, AS2026\n\n\n\nTuesday\, January 15:  \n\nIndigenous Health Lecture\, Erica Samms Hurley\, Nurse Educator\, Adjunct Professor SASS\n\n1:00pm-2:20pm\, AS2034\n\n\nIndigenous Research Q&A for Faculty\, Staff\, and Students\, Dr. Max Liboiron\, Associate VP (Indigenous Research)\n\n2:30pm-4:00pm\, AS2016\n\n\nNorthern Games\, hosted by the Indigenous Student Caucus\n\n5:00pm-6:30pm\, Grenfell gymnasium\n\n\n\nWednesday\, January 16:  \n\nIndigenous Arts/Crafts Fair\n\n11:00am-4:00pm\, AS Atrium\n\n\n\nThursday\, January 17:  \n\nGrenfell Campus/Canadian Forest Service workshop: Indigenous Forest Values and Engagement\n\n10:00am-2:00pm (RSVP to kbutler@grenfell.mun.ca)\, location TBA\n\n\nIndigenous Film Screening: The Country\n\n3:00pm-5:00pm (includes discussion)\, AS 2026\n\n\n\nThere is no fee for any of these events.  \nFor more information\, visit our Facebook page:   https://www.facebook.com/GrenfellAboriginalAffairs/ \nOr email Kelly Anne Butler at aboriginal@grenfell.mun.ca \n
URL:https://qalipu.ca/event/indigenous-peoples-week-january-2019/
ATTACH;FMTTYPE=image/jpeg:https://qalipu.ca/qalipu/wp-content/uploads/2019/01/Grenfell-IPW.jpg
END:VEVENT
END:VCALENDAR