BEGIN:VCALENDAR
VERSION:2.0
PRODID:-//Qalipu - ECPv4.5.13//NONSGML v1.0//EN
CALSCALE:GREGORIAN
METHOD:PUBLISH
X-WR-CALNAME:Qalipu
X-ORIGINAL-URL:https://qalipu.ca
X-WR-CALDESC:Events for Qalipu
BEGIN:VEVENT
DTSTART;TZID=UTC-3.5:20190224T130000
DTEND;TZID=UTC-3.5:20190224T170000
DTSTAMP:20260424T164523
CREATED:20190220T153101Z
LAST-MODIFIED:20190220T153101Z
UID:10273-1551013200-1551027600@qalipu.ca
SUMMARY:Apuknajit Friendship Mini Pow Wow and Winter Feast
DESCRIPTION:Apuknajit is a Mi’kmaq Winter Feast celebrating traditional times when food was not plentiful. A time to gather and celebrate with our relations. This event will include smudging\, singing\, drumming\, teachings and a small feast. \nSponsored by the Corner Brook Aboriginal Women’s Organization. \n
URL:https://qalipu.ca/event/apuknajit-friendship-mini-pow-wow-and-winter-feast/
LOCATION:11 West Street\, Corner Brook\, NL\, A2H 2Y6\, Canada
CATEGORIES:General
END:VEVENT
BEGIN:VEVENT
DTSTART;TZID=UTC-3.5:20190224T150000
DTEND;TZID=UTC-3.5:20190224T150000
DTSTAMP:20260424T164523
CREATED:20190218T182955Z
LAST-MODIFIED:20190218T182955Z
UID:10262-1551020400-1551020400@qalipu.ca
SUMMARY:Flat Bay Ward Meeting - Feb 24 2019
DESCRIPTION:Flat Bay Community Center \n
URL:https://qalipu.ca/event/flat-bay-ward-meeting-feb-24-2019/
LOCATION:NL
CATEGORIES:Ward Meetings
END:VEVENT
END:VCALENDAR