BEGIN:VCALENDAR
VERSION:2.0
PRODID:-//Qalipu - ECPv4.5.13//NONSGML v1.0//EN
CALSCALE:GREGORIAN
METHOD:PUBLISH
X-WR-CALNAME:Qalipu
X-ORIGINAL-URL:https://qalipu.ca
X-WR-CALDESC:Events for Qalipu
BEGIN:VEVENT
DTSTART;VALUE=DATE:20190308
DTEND;VALUE=DATE:20190310
DTSTAMP:20260424T164821
CREATED:20190206T183100Z
LAST-MODIFIED:20190206T183100Z
UID:10200-1552003200-1552262399@qalipu.ca
SUMMARY:Dancers and Drummers of the New Dawn - Apply by February 22
DESCRIPTION:
URL:https://qalipu.ca/event/dancers-and-drummers-of-the-new-dawn-apply-by-february-22/
CATEGORIES:General
ATTACH;FMTTYPE=image/jpeg:https://qalipu.ca/qalipu/wp-content/uploads/2019/02/Dancers-and-Drummers-of-the-New-Dawn-promotional-poster-2019.jpg
END:VEVENT
BEGIN:VEVENT
DTSTART;TZID=UTC-3.5:20190309T090000
DTEND;TZID=UTC-3.5:20190309T090000
DTSTAMP:20260424T164821
CREATED:20190222T184951Z
LAST-MODIFIED:20190222T184951Z
UID:10300-1552122000-1552122000@qalipu.ca
SUMMARY:Council Meeting - March 9 2019
DESCRIPTION:The next meeting of Council will be held at 9 am on Saturday\, March 9\, 2019 in the Qalipu Community Room at 1 Church Street\, Corner Brook. \nTo register\, please contact Tina Diamond at 634-5111 or email council@qalipu.ca with your Full Name and Band Reg #. \n
URL:https://qalipu.ca/event/council-meeting-march-9-2019/
LOCATION:1 Church Street\, Corner Brook\, NL\, A2H 2Z4\, Canada
CATEGORIES:Council Meeting
END:VEVENT
END:VCALENDAR