BEGIN:VCALENDAR
VERSION:2.0
PRODID:-//Qalipu - ECPv4.5.13//NONSGML v1.0//EN
CALSCALE:GREGORIAN
METHOD:PUBLISH
X-WR-CALNAME:Qalipu
X-ORIGINAL-URL:https://qalipu.ca
X-WR-CALDESC:Events for Qalipu
BEGIN:VEVENT
DTSTART;TZID=UTC-3.5:20190605T090000
DTEND;TZID=UTC-3.5:20190605T090000
DTSTAMP:20260424T114637
CREATED:20190423T135938Z
LAST-MODIFIED:20190423T135938Z
UID:10581-1559725200-1559725200@qalipu.ca
SUMMARY:Diversity\, Inclusion\, and YOU
DESCRIPTION:Learn to navigate these complex issues in WRDC’s new workshop. With increased knowledge and understanding\, participants will communicate more effectively\, and become more inclusive in their workplaces and day to day lives. \n
URL:https://qalipu.ca/event/diversity-inclusion-and-you/
LOCATION:44 Queen St.\, Stephenville\, NL\, A2N 2M5\, Canada
CATEGORIES:General
END:VEVENT
BEGIN:VEVENT
DTSTART;TZID=UTC-3.5:20190605T140000
DTEND;TZID=UTC-3.5:20190605T140000
DTSTAMP:20260424T114637
CREATED:20190524T124424Z
LAST-MODIFIED:20190524T124424Z
UID:10706-1559743200-1559743200@qalipu.ca
SUMMARY:Information Session - Sheet Metal Worker St. George's
DESCRIPTION:
URL:https://qalipu.ca/event/information-session-sheet-metal-worker-st-georges/
LOCATION:183 Main Street\, St. George's\, NL\, Canada
CATEGORIES:General
ATTACH;FMTTYPE=image/jpeg:https://qalipu.ca/qalipu/wp-content/uploads/2019/05/Sheet-Metal-Presentation-Qalipu.jpg
END:VEVENT
BEGIN:VEVENT
DTSTART;TZID=UTC-3.5:20190605T180000
DTEND;TZID=UTC-3.5:20190605T180000
DTSTAMP:20260424T114637
CREATED:20190524T124225Z
LAST-MODIFIED:20190524T124225Z
UID:10704-1559757600-1559757600@qalipu.ca
SUMMARY:Information Session - Sheet Metal Worker Corner Brook
DESCRIPTION:
URL:https://qalipu.ca/event/information-session-sheet-metal-worker-corner-brook/
LOCATION:1 Church Street\, Corner Brook\, NL\, A2H 2Z4\, Canada
CATEGORIES:General
ATTACH;FMTTYPE=image/jpeg:https://qalipu.ca/qalipu/wp-content/uploads/2019/05/Sheet-Metal-Presentation-Qalipu.jpg
END:VEVENT
END:VCALENDAR