BEGIN:VCALENDAR
VERSION:2.0
PRODID:-//Qalipu - ECPv4.5.13//NONSGML v1.0//EN
CALSCALE:GREGORIAN
METHOD:PUBLISH
X-WR-CALNAME:Qalipu
X-ORIGINAL-URL:https://qalipu.ca
X-WR-CALDESC:Events for Qalipu
BEGIN:VEVENT
DTSTART;VALUE=DATE:20190617
DTEND;VALUE=DATE:20190622
DTSTAMP:20260424T114636
CREATED:20190604T135733Z
LAST-MODIFIED:20190604T135733Z
UID:10742-1560729600-1561247999@qalipu.ca
SUMMARY:National Indigenous Peoples Day 2019
DESCRIPTION:Please check out these listings for National Indigenous Peoples Day events: https://sway.office.com/hJbODq6Uv9GyUrZG?ref=Link&loc=endofstory \n
URL:https://qalipu.ca/event/national-indigenous-peoples-day-2019/
CATEGORIES:General
ATTACH;FMTTYPE=image/jpeg:https://qalipu.ca/qalipu/wp-content/uploads/2019/06/QVT-AkBYtnA-bs.jpeg
END:VEVENT
BEGIN:VEVENT
DTSTART;VALUE=DATE:20190619
DTEND;VALUE=DATE:20190619
DTSTAMP:20260424T114636
CREATED:20190528T133844Z
LAST-MODIFIED:20190528T133844Z
UID:10717-1560902400-1560988799@qalipu.ca
SUMMARY:2019 Annual Mawio'mi - Cape St George
DESCRIPTION:
URL:https://qalipu.ca/event/2019-annual-mawiomi-cape-st-george/
LOCATION:811 Oceanview Drive\, Degrau\, NL\, A0N 1T1\, Canada
CATEGORIES:General
ATTACH;FMTTYPE=image/jpeg:https://qalipu.ca/qalipu/wp-content/uploads/2019/05/2019-BFN-CSG-NIPD-Powwow-Mawiomi-poster-english.jpg
END:VEVENT
BEGIN:VEVENT
DTSTART;TZID=UTC-3.5:20190619T190000
DTEND;TZID=UTC-3.5:20190619T190000
DTSTAMP:20260424T114636
CREATED:20190611T172644Z
LAST-MODIFIED:20190611T172644Z
UID:10748-1560970800-1560970800@qalipu.ca
SUMMARY:Northshore Aboriginal Group Meeting - June 2019
DESCRIPTION:
URL:https://qalipu.ca/event/northshore-aboriginal-group-meeting-june-2019/
CATEGORIES:General
ATTACH;FMTTYPE=image/jpeg:https://qalipu.ca/qalipu/wp-content/uploads/2019/06/Northshore-Aboriginal-Group-Meeting-Poster.jpg
END:VEVENT
END:VCALENDAR