BEGIN:VCALENDAR
VERSION:2.0
PRODID:-//Qalipu - ECPv4.5.13//NONSGML v1.0//EN
CALSCALE:GREGORIAN
METHOD:PUBLISH
X-WR-CALNAME:Qalipu
X-ORIGINAL-URL:https://qalipu.ca
X-WR-CALDESC:Events for Qalipu
BEGIN:VEVENT
DTSTART;VALUE=DATE:20190705
DTEND;VALUE=DATE:20190707
DTSTAMP:20260424T101132
CREATED:20190627T153229Z
LAST-MODIFIED:20190702T103423Z
UID:10791-1562284800-1562543999@qalipu.ca
SUMMARY:The 24th annual Miawpukek First Nation Powwow!
DESCRIPTION:To view the event page for the 24th annual Miawpukek First Nation Powwow please visit: https://www.facebook.com/events/247212769324585/ \n
URL:https://qalipu.ca/event/the-24th-annual-miawpukek-first-nation-powwow/
CATEGORIES:General
ATTACH;FMTTYPE=image/jpeg:https://qalipu.ca/qalipu/wp-content/uploads/2019/06/conne-river-2019.jpg
END:VEVENT
END:VCALENDAR