BEGIN:VCALENDAR
VERSION:2.0
PRODID:-//Qalipu - ECPv4.5.13//NONSGML v1.0//EN
CALSCALE:GREGORIAN
METHOD:PUBLISH
X-WR-CALNAME:Qalipu
X-ORIGINAL-URL:https://qalipu.ca
X-WR-CALDESC:Events for Qalipu
BEGIN:VEVENT
DTSTART;VALUE=DATE:20190824
DTEND;VALUE=DATE:20190829
DTSTAMP:20260424T084539
CREATED:20190816T101535Z
LAST-MODIFIED:20190816T101535Z
UID:11041-1566604800-1567123199@qalipu.ca
SUMMARY:Sweetgrass Festival - "Indigenuity"  Art Show
DESCRIPTION:A Celebration and Exploration of Indigenous Art\, Design\, and Culture.\nArt can be viewed daily from 1:00PM – 5:00PM Free of charge \n\n
URL:https://qalipu.ca/event/sweetgrass-festival-indigenuity-art-show/
LOCATION:380 Massachusetts Dr\, Stephenville\, NL\, Canada
ATTACH;FMTTYPE=image/png:https://qalipu.ca/qalipu/wp-content/uploads/2019/08/sweetgrASS.png
END:VEVENT
BEGIN:VEVENT
DTSTART;VALUE=DATE:20190824
DTEND;VALUE=DATE:20190824
DTSTAMP:20260424T084539
CREATED:20190816T101712Z
LAST-MODIFIED:20190816T101712Z
UID:11026-1566604800-1566691199@qalipu.ca
SUMMARY:Sweetgrass Festival
DESCRIPTION:Schedule of Events:\nAugust 24th. \n1:00PM – Paint Class with Marlene Brown (limited to 20) 90 Main St. Stephenville.\nSignup Free of charge. Contact Paul – dop@pdifc.com\, or (709) 643-3902 \n7-9PM – Paul Pike & Friends Concert @ Stephenville Arts & Culture Center.\n** Tickets available at the box office only. (709) 643-4553 \n  \n  \n
URL:https://qalipu.ca/event/sweetgrass-festival/
LOCATION:NL
ATTACH;FMTTYPE=image/png:https://qalipu.ca/qalipu/wp-content/uploads/2019/08/sweetgrASS.png
END:VEVENT
BEGIN:VEVENT
DTSTART;TZID=UTC-3.5:20190824T190000
DTEND;TZID=UTC-3.5:20190824T210000
DTSTAMP:20260424T084539
CREATED:20190528T135734Z
LAST-MODIFIED:20190528T135734Z
UID:10730-1566673200-1566680400@qalipu.ca
SUMMARY:Indigenous Concert - Paul Pike & Friends
DESCRIPTION:
URL:https://qalipu.ca/event/indigenous-concert-paul-pike-friends/
LOCATION:380 Massachusetts Dr\, Stephenville\, NL\, Canada
ATTACH;FMTTYPE=image/jpeg:https://qalipu.ca/qalipu/wp-content/uploads/2019/05/sweetgrass-festival.jpg
END:VEVENT
END:VCALENDAR