BEGIN:VCALENDAR
VERSION:2.0
PRODID:-//Qalipu - ECPv4.5.13//NONSGML v1.0//EN
CALSCALE:GREGORIAN
METHOD:PUBLISH
X-WR-CALNAME:Qalipu
X-ORIGINAL-URL:https://qalipu.ca
X-WR-CALDESC:Events for Qalipu
BEGIN:VEVENT
DTSTART;VALUE=DATE:20190913
DTEND;VALUE=DATE:20190915
DTSTAMP:20260424T072512
CREATED:20190910T162756Z
LAST-MODIFIED:20190913T131527Z
UID:11115-1568332800-1568591999@qalipu.ca
SUMMARY:Youth Conference: Save the Date
DESCRIPTION:
URL:https://qalipu.ca/event/youth-conference-save-the-date/
CATEGORIES:General
ATTACH;FMTTYPE=image/png:https://qalipu.ca/qalipu/wp-content/uploads/2019/09/Website-Feature-Image.png
END:VEVENT
BEGIN:VEVENT
DTSTART;VALUE=DATE:20190915
DTEND;VALUE=DATE:20190915
DTSTAMP:20260424T072512
CREATED:20190910T155759Z
LAST-MODIFIED:20190910T155759Z
UID:11090-1568505600-1568591999@qalipu.ca
SUMMARY:Live Stream of the Annual General Assembly
DESCRIPTION:If you can’t attend the western or central AGA in person\, you might like to tune in and watch it live on September 15. \nThe AGA is a meeting intended for members only so your access to the stream will be through your ginu membership profile. Test your access now at https://qalipu.ca/login-options/ \nIf you have trouble\, please call 709-679-2142 or toll free (NL only) at 1-855-263-6440 \nTo view the Annual Report\, please visit https://qalipu.ca/annual-report-2018-2019/ \n
URL:https://qalipu.ca/event/live-stream-of-the-annual-general-assembly/
CATEGORIES:General
ATTACH;FMTTYPE=image/png:https://qalipu.ca/qalipu/wp-content/uploads/2019/09/Live-Stream-Ad-1.png
END:VEVENT
BEGIN:VEVENT
DTSTART;TZID=UTC-3.5:20190915T120000
DTEND;TZID=UTC-3.5:20190915T160000
DTSTAMP:20260424T072512
CREATED:20190812T132026Z
LAST-MODIFIED:20190812T132026Z
UID:11008-1568548800-1568563200@qalipu.ca
SUMMARY:Grenfell Campus All-Nations Powwow
DESCRIPTION:4th Annual Grenfell Campus All-Nations Powwow! Growing a little bit each year. Come join us! All are welcome. \n
URL:https://qalipu.ca/event/grenfell-campus-all-nations-powwow/
LOCATION:20 University Dr.\, Corner Brook\, NL\, A2H 5G4\, Canada
ATTACH;FMTTYPE=image/jpeg:https://qalipu.ca/qalipu/wp-content/uploads/2019/08/67659994_1030901750445820_6230076012487507968_o.jpg
END:VEVENT
BEGIN:VEVENT
DTSTART;TZID=UTC-3.5:20190915T133000
DTEND;TZID=UTC-3.5:20190915T163000
DTSTAMP:20260424T072512
CREATED:20190827T101239Z
LAST-MODIFIED:20190911T125504Z
UID:11064-1568554200-1568565000@qalipu.ca
SUMMARY:2019 Annual General Assembly - Western Region
DESCRIPTION:A meeting to review financial reports and Band business over the 2018-2019 fiscal year. Members will be asked to register at the door. \n
URL:https://qalipu.ca/event/2019-annual-general-assembly-western-region/
LOCATION:48 West Street\, Corner Brook\, NL\, A2H 2Z2
CATEGORIES:General
END:VEVENT
END:VCALENDAR