BEGIN:VCALENDAR
VERSION:2.0
PRODID:-//Qalipu - ECPv4.5.13//NONSGML v1.0//EN
CALSCALE:GREGORIAN
METHOD:PUBLISH
X-WR-CALNAME:Qalipu
X-ORIGINAL-URL:https://qalipu.ca
X-WR-CALDESC:Events for Qalipu
BEGIN:VEVENT
DTSTART;TZID=UTC-3.5:20190918T190000
DTEND;TZID=UTC-3.5:20190918T190000
DTSTAMP:20260424T072237
CREATED:20190910T153633Z
LAST-MODIFIED:20190910T153633Z
UID:11099-1568833200-1568833200@qalipu.ca
SUMMARY:Heritage NL: You Are Invited
DESCRIPTION:
URL:https://qalipu.ca/event/heritage-nl-you-are-invited/
LOCATION:9 Bonaventure Ave\, St. John's\, NL\, A1C 5P9\, Canada
CATEGORIES:General
ATTACH;FMTTYPE=image/jpeg:https://qalipu.ca/qalipu/wp-content/uploads/2019/09/Heritage-NL.jpg
END:VEVENT
END:VCALENDAR