BEGIN:VCALENDAR
VERSION:2.0
PRODID:-//Qalipu - ECPv4.5.13//NONSGML v1.0//EN
CALSCALE:GREGORIAN
METHOD:PUBLISH
X-WR-CALNAME:Qalipu
X-ORIGINAL-URL:https://qalipu.ca
X-WR-CALDESC:Events for Qalipu
BEGIN:VEVENT
DTSTART;TZID=UTC-3.5:20190919T113000
DTEND;TZID=UTC-3.5:20190919T130000
DTSTAMP:20260424T072434
CREATED:20190905T164037Z
LAST-MODIFIED:20190905T164037Z
UID:11083-1568892600-1568898000@qalipu.ca
SUMMARY:2019 Corner Brook Pride Community BBQ
DESCRIPTION:
URL:https://qalipu.ca/event/2019-corner-brook-pride-community-bbq/
LOCATION:1 Church Street\, Corner Brook\, NL\, Canada
CATEGORIES:General
ATTACH;FMTTYPE=image/png:https://qalipu.ca/qalipu/wp-content/uploads/2019/09/Qalipu-Community-BBQ-poster.png
END:VEVENT
BEGIN:VEVENT
DTSTART;TZID=UTC-3.5:20190919T183000
DTEND;TZID=UTC-3.5:20190919T200000
DTSTAMP:20260424T072434
CREATED:20190910T153116Z
LAST-MODIFIED:20190910T153116Z
UID:11096-1568917800-1568923200@qalipu.ca
SUMMARY:Youth Workshop & Talking Circle
DESCRIPTION:
URL:https://qalipu.ca/event/youth-workshop-talking-circle/
LOCATION:1 Church Street\, Corner Brook\, NL\, A2H 2Z4\, Canada
CATEGORIES:General
ATTACH;FMTTYPE=image/png:https://qalipu.ca/qalipu/wp-content/uploads/2019/09/Youth-event.png
END:VEVENT
END:VCALENDAR