BEGIN:VCALENDAR
VERSION:2.0
PRODID:-//Qalipu - ECPv4.5.13//NONSGML v1.0//EN
CALSCALE:GREGORIAN
METHOD:PUBLISH
X-WR-CALNAME:Qalipu
X-ORIGINAL-URL:https://qalipu.ca
X-WR-CALDESC:Events for Qalipu
BEGIN:VEVENT
DTSTART;VALUE=DATE:20191004
DTEND;VALUE=DATE:20191006
DTSTAMP:20260424T054612
CREATED:20190910T154526Z
LAST-MODIFIED:20190910T154957Z
UID:11105-1570147200-1570406399@qalipu.ca
SUMMARY:Land-Based Learning
DESCRIPTION:
URL:https://qalipu.ca/event/land-based-learning/
LOCATION:Trans-Canada Hwy\, Glovertown\, NL\, A0G 4K0\, Canada
CATEGORIES:General
ATTACH;FMTTYPE=image/png:https://qalipu.ca/qalipu/wp-content/uploads/2019/09/Land-Based-Learning_October-2019.png
END:VEVENT
END:VCALENDAR