BEGIN:VCALENDAR
VERSION:2.0
PRODID:-//Qalipu - ECPv4.5.13//NONSGML v1.0//EN
CALSCALE:GREGORIAN
METHOD:PUBLISH
X-WR-CALNAME:Qalipu
X-ORIGINAL-URL:https://qalipu.ca
X-WR-CALDESC:Events for Qalipu
BEGIN:VEVENT
DTSTART;TZID=UTC-3.5:20191113T183000
DTEND;TZID=UTC-3.5:20191113T200000
DTSTAMP:20260424T035955
CREATED:20191017T142912Z
LAST-MODIFIED:20191017T142912Z
UID:11223-1573669800-1573675200@qalipu.ca
SUMMARY:Nujio'qonik Beading Group - People of the Dawn Indigenous Friendship Centre
DESCRIPTION:
URL:https://qalipu.ca/event/nujioqonik-beading-group-people-of-the-dawn-indigenous-friendship-centre-3/
LOCATION:329 Main Street\, St. George's\, Newfoundland and Labrador\, Canada
CATEGORIES:General
ATTACH;FMTTYPE=image/jpeg:https://qalipu.ca/qalipu/wp-content/uploads/2019/10/Beading-Group.jpg
END:VEVENT
END:VCALENDAR