BEGIN:VCALENDAR
VERSION:2.0
PRODID:-//Qalipu - ECPv4.5.13//NONSGML v1.0//EN
CALSCALE:GREGORIAN
METHOD:PUBLISH
X-WR-CALNAME:Qalipu
X-ORIGINAL-URL:https://qalipu.ca
X-WR-CALDESC:Events for Qalipu
BEGIN:VEVENT
DTSTART;VALUE=DATE:20191207
DTEND;VALUE=DATE:20191208
DTSTAMP:20260424T024004
CREATED:20191114T160833Z
LAST-MODIFIED:20191114T160833Z
UID:11330-1575676800-1575849599@qalipu.ca
SUMMARY:Ribbon Skirt & Vest Workshop - Stephenville
DESCRIPTION:
URL:https://qalipu.ca/event/ribbon-skirt-vest-workshop-stephenville/
LOCATION:432 Massachusetts Dr.\, Stephenville\, NL\, A2N 3C1\, Canada
CATEGORIES:General
ATTACH;FMTTYPE=image/jpeg:https://qalipu.ca/qalipu/wp-content/uploads/2019/11/Ribbon-Skirt-and-Vest.jpg
END:VEVENT
END:VCALENDAR