BEGIN:VCALENDAR
VERSION:2.0
PRODID:-//Qalipu - ECPv4.5.13//NONSGML v1.0//EN
CALSCALE:GREGORIAN
METHOD:PUBLISH
X-WR-CALNAME:Qalipu
X-ORIGINAL-URL:https://qalipu.ca
X-WR-CALDESC:Events for Qalipu
BEGIN:VEVENT
DTSTART;VALUE=DATE:20200114
DTEND;VALUE=DATE:20200115
DTSTAMP:20260424T012026
CREATED:20200107T142145Z
LAST-MODIFIED:20200107T142145Z
UID:11433-1578960000-1579132799@qalipu.ca
SUMMARY:Apajitayek Mi’kMaq Language And Culture Camp - Corner Brook
DESCRIPTION:The Qalipu Cultural Foundation is pleased to announce it’s final language camp in the series for Apajitayek Mi’kmaq Language & Culture Camps. \nThe camp will be led buy Robert Bernard\, Dean Simon and supported by Elder George Paul.  In addition to basic conversation and introductory Mi’kmaw language course work\, the two-day camp will offer participants a chance to engage in learning song\, dance\, history and stories about their Mi’kmaq ancestors. \nThe camp is free to attend and the number of seats are limited.  Due to such popularity\,  the registration is for draw to participate.  Successful participants will be notified by January 8th\, 2020. \n
URL:https://qalipu.ca/event/apajitayek-mikmaq-language-and-culture-camp-corner-brook/
LOCATION:1 Church Street\, Corner Brook\, NL\, A2H 2Z4\, Canada
CATEGORIES:General
END:VEVENT
BEGIN:VEVENT
DTSTART;TZID=UTC-3.5:20200115T100000
DTEND;TZID=UTC-3.5:20200115T150000
DTSTAMP:20260424T012026
CREATED:20200113T152037Z
LAST-MODIFIED:20200113T152037Z
UID:11450-1579082400-1579100400@qalipu.ca
SUMMARY:Financial Literacy for all Ages: Empowering Youth and Seniors in Newfoundland
DESCRIPTION:
URL:https://qalipu.ca/event/financial-literacy-for-all-ages-empowering-youth-and-seniors-in-newfoundland/
LOCATION:2 Woodland St.\, Stepheville\, NL\, A2N 2Y7\, Canada
CATEGORIES:General
ATTACH;FMTTYPE=image/png:https://qalipu.ca/qalipu/wp-content/uploads/2020/01/Financial-Literacy-Stephenville-2020.png
END:VEVENT
BEGIN:VEVENT
DTSTART;TZID=UTC-3.5:20200115T180000
DTEND;TZID=UTC-3.5:20200115T200000
DTSTAMP:20260424T012026
CREATED:20200113T152829Z
LAST-MODIFIED:20200113T152829Z
UID:11458-1579111200-1579118400@qalipu.ca
SUMMARY:Consultation: Indigenous Content in K-12 School Curriculum
DESCRIPTION:Qalipu First Nation’s Education and Training Department is asking for the input of our membership. We are partnered with Newfoundland and Labrador English School District and the Department of Education and Early Childhood Development to improve curriculum by increasing Indigenous content. Please visit our session and provide your input \nPlease join us in Gander at the College of the North Atlantic RM 201 on January 15\, 2020 from 6-8 PM. \nFor more information\, or to contribute your thoughts by email\, please contact Kristen at kpittman@qalipu.ca \n
URL:https://qalipu.ca/event/consultation-indigenous-content-in-k-12-school-curriculum/
LOCATION:1 Magee Road\, Gander\, NL\, A1V 2W4\, Canada
CATEGORIES:General
ATTACH;FMTTYPE=image/jpeg:https://qalipu.ca/qalipu/wp-content/uploads/2020/01/81636352_2888040757915405_7989424187502493696_o.jpg
END:VEVENT
BEGIN:VEVENT
DTSTART;TZID=UTC-3.5:20200115T190000
DTEND;TZID=UTC-3.5:20200115T210000
DTSTAMP:20260424T012026
CREATED:20200113T154016Z
LAST-MODIFIED:20200113T154016Z
UID:11472-1579114800-1579122000@qalipu.ca
SUMMARY:Qalipu First Nation Community Consultations – Stephenville
DESCRIPTION:Members of the Band are invited to participate in the development of the Qalipu First Nation five-year strategic plan via consultation sessions scheduled to take place throughout the territory. \nBand Chief Brendan Mitchell noted\, “The Strategic Plan is the document that will help guide the ongoing development of programs and services the Band provides to its members. A collaborative approach in its development is essential in ensuring our members’ needs and vision are reflected in our work. I hope that members will participate in the process.” \nThe Strategic Plan will provide direction for Chief and Council\, as well as staff\, as they plan for future development in the areas of member services\, brand and communications\, culture and heritage\, environmental stewardship\, economic development and operational excellence. \nMembers who wish to contribute to the plan can choose to participate in-person at the sessions or by completing an on-line survey (https://www.surveymonkey.com/r/QFNStrategicPlan) . Written submissions will be accepted at our office in Corner Brook and individuals may also communicate directly with the consultant on the strategic plan by contacting Terry Hickey\, Conach Consulting at 709-682-9026 or via email at terryhickey@conach.ca. \n\n
URL:https://qalipu.ca/event/qalipu-first-nation-community-consultations-stephenville/
LOCATION:432 Massachusetts Dr.\, Stephenville\, NL\, A2N 3C1\, Canada
CATEGORIES:General
ATTACH;FMTTYPE=image/png:https://qalipu.ca/qalipu/wp-content/uploads/2020/01/Strategic-Planning-Facebook-Event-Cover-2.png
END:VEVENT
END:VCALENDAR