BEGIN:VCALENDAR
VERSION:2.0
PRODID:-//Qalipu - ECPv4.5.13//NONSGML v1.0//EN
CALSCALE:GREGORIAN
METHOD:PUBLISH
X-WR-CALNAME:Qalipu
X-ORIGINAL-URL:https://qalipu.ca
X-WR-CALDESC:Events for Qalipu
BEGIN:VEVENT
DTSTART;VALUE=DATE:20200216
DTEND;VALUE=DATE:20200221
DTSTAMP:20260423T224344
CREATED:20200124T174107Z
LAST-MODIFIED:20200124T174716Z
UID:11516-1581811200-1582329599@qalipu.ca
SUMMARY:Red Dresses for Missing and Murdered Indigenous Women and Girls
DESCRIPTION:
URL:https://qalipu.ca/event/red-dresses-for-missing-and-murdered-indigenous-women-and-girls/
CATEGORIES:General
ATTACH;FMTTYPE=image/jpeg:https://qalipu.ca/qalipu/wp-content/uploads/2020/01/REDressProject.jpg
END:VEVENT
BEGIN:VEVENT
DTSTART;TZID=UTC-3.5:20200219T083000
DTEND;TZID=UTC-3.5:20200219T160000
DTSTAMP:20260423T224344
CREATED:20200124T191532Z
LAST-MODIFIED:20200131T182710Z
UID:11545-1582101000-1582128000@qalipu.ca
SUMMARY:Qalipu Business Forum 2020: Building Success Together
DESCRIPTION:The Qalipu Business Network (QBN) will host its annual business forum on February 19 at the Greenwood Inn in Corner Brook\, opening with a networking social on the evening of the 18th. \nThe Forum will focus on tips and best practices when working with funders\, building successful businesses in rural areas and offering social media solutions for small businesses. Jolene Lasky will address the group as keynote speaker\, sharing the story of her journey to creating Wabanki Maple\, a 100% Indigenous female-owned business in Neqotkuk (Tobique First Nation). \nCarrying on a tradition of engaging young leaders of the future\, there will also be a youth innovation challenge for post-secondary students. The challenge will include presentation of real-life business case that the students will be asked to present solutions. \nBusiness Network members and other participants are invited to showcase their businesses and give forum delegates an opportunity to learn more about the local business community including available products\, services and opportunities to partner. \nInterested attendees can pre-register for the event by clicking here\, or by calling Kellie at 489-2898. To participate in the trade show\, please contact Kellie. Please note\, tables are limited. \nTo Register: https://www.eventbrite.com/e/qalipu-business-forum-2020-tickets-90630868367?fbclid=IwAR12kTGCZcfesnAJiYwVWHAFoRue8l0NuTmAG0Sl56c2LqPfziTijV7NRlM \n			\n				\n					\n						\n							\n							Loading...\n						\n					\n					\n						\n							\n							Taking too long?\n						\n						\n								 Reload document							\n							|\n							\n								 Open in new tab							\n					\n				\n			\n		Download [98.86 KB]  \n
URL:https://qalipu.ca/event/qalipu-business-forum-2020-building-success-together/
LOCATION:48 West Street\, Corner Brook\, NL\, A2H 2Z2
CATEGORIES:General
ATTACH;FMTTYPE=image/jpeg:https://qalipu.ca/qalipu/wp-content/uploads/2020/01/Business-Forum-Poster.jpg
END:VEVENT
END:VCALENDAR