BEGIN:VCALENDAR
VERSION:2.0
PRODID:-//Qalipu - ECPv4.5.13//NONSGML v1.0//EN
CALSCALE:GREGORIAN
METHOD:PUBLISH
X-WR-CALNAME:Qalipu
X-ORIGINAL-URL:https://qalipu.ca
X-WR-CALDESC:Events for Qalipu
BEGIN:VEVENT
DTSTART;TZID=UTC-3.5:20200222T110000
DTEND;TZID=UTC-3.5:20200222T110000
DTSTAMP:20260423T223751
CREATED:20200221T181940Z
LAST-MODIFIED:20200221T181940Z
UID:11666-1582369200-1582369200@qalipu.ca
SUMMARY:West Coast RNC Cadet Information Session #1
DESCRIPTION:
URL:https://qalipu.ca/event/west-coast-rnc-cadet-information-session-1/
LOCATION:1 Church Street\, Corner Brook\, NL\, A2H 2Z4\, Canada
CATEGORIES:General
ATTACH;FMTTYPE=image/jpeg:https://qalipu.ca/qalipu/wp-content/uploads/2020/02/RNC-Information-Session-1.jpg
END:VEVENT
END:VCALENDAR