BEGIN:VCALENDAR
VERSION:2.0
PRODID:-//Qalipu - ECPv4.5.13//NONSGML v1.0//EN
CALSCALE:GREGORIAN
METHOD:PUBLISH
X-WR-CALNAME:Qalipu
X-ORIGINAL-URL:https://qalipu.ca
X-WR-CALDESC:Events for Qalipu
BEGIN:VEVENT
DTSTART;TZID=UTC-3.5:20200223T090000
DTEND;TZID=UTC-3.5:20200223T170000
DTSTAMP:20260423T224144
CREATED:20200213T164540Z
LAST-MODIFIED:20200213T175635Z
UID:11606-1582448400-1582477200@qalipu.ca
SUMMARY:It Starts With Me Workshop
DESCRIPTION:
URL:https://qalipu.ca/event/it-starts-with-me-workshop/
LOCATION:1 Church Street\, Corner Brook\, NL\, A2H 2Z4\, Canada
CATEGORIES:General
ATTACH;FMTTYPE=image/jpeg:https://qalipu.ca/qalipu/wp-content/uploads/2020/02/IT-STARTS-WITH-ME.jpg
END:VEVENT
BEGIN:VEVENT
DTSTART;TZID=UTC-3.5:20200223T103000
DTEND;TZID=UTC-3.5:20200223T103000
DTSTAMP:20260423T224144
CREATED:20200221T182345Z
LAST-MODIFIED:20200221T182345Z
UID:11669-1582453800-1582453800@qalipu.ca
SUMMARY:West Coast Pre-PARE Session
DESCRIPTION:
URL:https://qalipu.ca/event/west-coast-pre-pare-session/
LOCATION:20 University Dr.\, Corner Brook\, NL\, A2H 5G4\, Canada
CATEGORIES:General
ATTACH;FMTTYPE=image/jpeg:https://qalipu.ca/qalipu/wp-content/uploads/2020/02/West-Coast-Pre-PARE.jpg
END:VEVENT
END:VCALENDAR