BEGIN:VCALENDAR
VERSION:2.0
PRODID:-//Qalipu - ECPv4.5.13//NONSGML v1.0//EN
CALSCALE:GREGORIAN
METHOD:PUBLISH
X-WR-CALNAME:Qalipu
X-ORIGINAL-URL:https://qalipu.ca
X-WR-CALDESC:Events for Qalipu
BEGIN:VEVENT
DTSTART;TZID=UTC-3.5:20200224T180000
DTEND;TZID=UTC-3.5:20200224T210000
DTSTAMP:20260423T224433
CREATED:20190809T121109Z
LAST-MODIFIED:20190809T121109Z
UID:10998-1582567200-1582578000@qalipu.ca
SUMMARY:Stephenville - Mi'kmaq Drumming and Cultural Circle
DESCRIPTION:L’nuk Welcome! \nMi’kmaq Drumming and Cultural Circle \nFor information\, contact: (709) 909-0062 mdacc@xplornet.ca \nActivities: \nCulture & Tradition (Hand Drum\, Singing\, Crafts and Mi’kmaq Teachings) \nLocation: \nCollege of the North Atlantic (Room 324) \n432 Massachusetts Drive\, Stephenville\nStephenville Campus \nTime:  February 24\, 2020. 6PM – 9PM \n
URL:https://qalipu.ca/event/stephenville-mikmaq-drumming-and-cultural-circle-6/
END:VEVENT
BEGIN:VEVENT
DTSTART;TZID=UTC-3.5:20200224T180000
DTEND;TZID=UTC-3.5:20200224T200000
DTSTAMP:20260423T224433
CREATED:20200213T174514Z
LAST-MODIFIED:20200213T174514Z
UID:11625-1582567200-1582574400@qalipu.ca
SUMMARY:Comprehensive Community Plan Engagement - Lewisporte
DESCRIPTION:
URL:https://qalipu.ca/event/comprehensive-community-plan-engagement-lewisporte/
CATEGORIES:General
ATTACH;FMTTYPE=image/png:https://qalipu.ca/qalipu/wp-content/uploads/2020/02/Lewisporte.png
END:VEVENT
BEGIN:VEVENT
DTSTART;TZID=UTC-3.5:20200224T180000
DTEND;TZID=UTC-3.5:20200224T180000
DTSTAMP:20260423T224433
CREATED:20200213T182040Z
LAST-MODIFIED:20200213T182040Z
UID:11631-1582567200-1582567200@qalipu.ca
SUMMARY:2020 Moose Hide Campaign Day
DESCRIPTION:
URL:https://qalipu.ca/event/2020-moose-hide-campaign-day/
ATTACH;FMTTYPE=image/png:https://qalipu.ca/qalipu/wp-content/uploads/2020/02/84928858_2632346480217684_8611369270535782400_n.png
END:VEVENT
END:VCALENDAR