BEGIN:VCALENDAR
VERSION:2.0
PRODID:-//Qalipu - ECPv4.5.13//NONSGML v1.0//EN
CALSCALE:GREGORIAN
METHOD:PUBLISH
X-WR-CALNAME:Qalipu
X-ORIGINAL-URL:https://qalipu.ca
X-WR-CALDESC:Events for Qalipu
BEGIN:VEVENT
DTSTART;TZID=UTC-3.5:20200926T100000
DTEND;TZID=UTC-3.5:20200926T100000
DTSTAMP:20260422T163155
CREATED:20200918T121334Z
LAST-MODIFIED:20200918T121449Z
UID:12599-1601114400-1601114400@qalipu.ca
SUMMARY:Council Meeting - September 26\, 2020
DESCRIPTION:The next meeting of Council will be held at 10 am on Saturday\, September 26\, 2020 at the Corner Brook Civic Centre. \nMembers of the Band are invited to pre-register for the meeting if attending in person. Please be advised that attendance is limited due to COVID-19 restrictions and we will be unable to provide refreshments at this event. To pre-register\, please call 634-5111 or email council@qalipu.ca \nYou must pre-register no later than 12 noon on Wednesday\, September 23rd\, 2020 \nMembers are encouraged to tune in to a live-stream of the meeting which is accessible through the Ginu membership database. If you need help accessing your profile\, or have questions about how to view the live-stream\, please contact our Indian Registration Administrator (IRA) at 709-634-4010 or 1-855-263-6440 \nGinu login: https://qalipu.ca/login-options/ \nAsk Chief and Council a question at the upcoming meeting: https://qalipu.ca/leave-a-message-for-chief-and-council/ \nView the meeting agenda here: Meeting Agenda \n
URL:https://qalipu.ca/event/council-meeting-september-26-2020/
LOCATION:1 Canada Games Place\, Corner Brook\, NL\, A2H 6C9\, Canada
CATEGORIES:Council Meeting
ATTACH;FMTTYPE=image/jpeg:https://qalipu.ca/qalipu/wp-content/uploads/2016/08/meeting.jpeg
END:VEVENT
END:VCALENDAR