BEGIN:VCALENDAR
VERSION:2.0
PRODID:-//Qalipu - ECPv4.5.13//NONSGML v1.0//EN
CALSCALE:GREGORIAN
METHOD:PUBLISH
X-WR-CALNAME:Qalipu
X-ORIGINAL-URL:https://qalipu.ca
X-WR-CALDESC:Events for Qalipu
BEGIN:VEVENT
DTSTART;TZID=UTC-3.5:20201004T130000
DTEND;TZID=UTC-3.5:20201004T130000
DTSTAMP:20260422T123347
CREATED:20200929T111637Z
LAST-MODIFIED:20200929T111637Z
UID:12641-1601816400-1601816400@qalipu.ca
SUMMARY:National Day of Remembrance – MMIWG Commemorative Ceremony in Corner Brook
DESCRIPTION:Qalipu First Nation\, in partnership with the Corner Brook Aboriginal Women’s Association and the Mi’kmaq Drumming and Cultural Circle\, invites you to join in a commemorative ceremony for Missing and Murdered Indigenous Women and Girls. \nThe gathering will take place on Sunday\, October 4 at 1:00 PM at the gazebo in front of the Qalipu offices at 3 Church Street\, Corner Brook. Everyone is welcome. \nPlease feel free to wear your regalia\, and bring your rattle or drum to join in song sharing. \n
URL:https://qalipu.ca/event/national-day-of-remembrance-mmiwg-commemorative-ceremony-in-corner-brook/
LOCATION:1 Church Street\, Corner Brook\, NL\, Canada
ATTACH;FMTTYPE=image/jpeg:https://qalipu.ca/qalipu/wp-content/uploads/2020/09/AdobeStock_333059320.jpeg
END:VEVENT
END:VCALENDAR