BEGIN:VCALENDAR
VERSION:2.0
PRODID:-//Qalipu - ECPv4.5.13//NONSGML v1.0//EN
CALSCALE:GREGORIAN
METHOD:PUBLISH
X-WR-CALNAME:Qalipu
X-ORIGINAL-URL:https://qalipu.ca
X-WR-CALDESC:Events for Qalipu
BEGIN:VEVENT
DTSTART;VALUE=DATE:20210122
DTEND;VALUE=DATE:20210122
DTSTAMP:20260421T213706
CREATED:20210108T174705Z
LAST-MODIFIED:20210108T182200Z
UID:13061-1611273600-1611359999@qalipu.ca
SUMMARY:Qalipu First Nation Presents Draft Strategic Plan\, Seeking Membership Review and Approval
DESCRIPTION:The Qalipu First Nation (QFN) is working toward approval and implementation of a comprehensive strategic plan that fully addresses the needs of members\, using the financial and human resources that it has available. \nThis draft Strategic Plan was developed with input from key informants\, consultation sessions with Staff and with Chief and Council\, and from the member feedback gathered through the on-line survey and community consultations. \nWe would now like to invite our membership to review the draft Strategic Plan and give members the opportunity to provide additional feedback prior to adoption. \nPlease Click Here to review the draft Strategic Plan and send your comments\, questions and concerns to Band Manager Keith Goulding at kgoulding@qalipu.ca \nPlease provide feedback by January 22\, 2021. \n
URL:https://qalipu.ca/event/qalipu-first-nation-presents-draft-strategic-plan-seeking-membership-review-and-approval/
ATTACH;FMTTYPE=image/png:https://qalipu.ca/qalipu/wp-content/uploads/2021/01/Draft-Strategic-Plan.png
END:VEVENT
END:VCALENDAR