BEGIN:VCALENDAR
VERSION:2.0
PRODID:-//Qalipu - ECPv4.5.13//NONSGML v1.0//EN
CALSCALE:GREGORIAN
METHOD:PUBLISH
X-WR-CALNAME:Qalipu
X-ORIGINAL-URL:https://qalipu.ca
X-WR-CALDESC:Events for Qalipu
BEGIN:VEVENT
DTSTART;TZID=UTC-2.5:20210206T090000
DTEND;TZID=UTC-2.5:20210206T090000
DTSTAMP:20260421T164019
CREATED:20210129T135706Z
LAST-MODIFIED:20210129T135706Z
UID:13151-1612602000-1612602000@qalipu.ca
SUMMARY:Council Meeting
DESCRIPTION:The next regular meeting of Council will be held at 9 am on Saturday\, February 6\, 2021. \nMembers are encouraged to tune in to a live-stream of the meeting which is accessible through the Ginu membership database. \nGinu login: https://qalipu.ca/login-options/ \nIf you need help accessing your profile\, or have questions about how to view the live-stream\, please contact our Indian Registration Administrator (IRA) at 709-634-4010 or 1-855-263-6440 Monday – Friday; 9am – 3:30 pm or request help at membership@qalipu.ca \nAgenda for the meeting: Click Here \nAsk Chief and Council a question at the upcoming meeting: https://qalipu.ca/leave-a-message-for-chief-and-council/ \n
URL:https://qalipu.ca/event/council-meeting-2/
CATEGORIES:Council Meeting
ATTACH;FMTTYPE=image/jpeg:https://qalipu.ca/qalipu/wp-content/uploads/2016/08/meeting.jpeg
END:VEVENT
END:VCALENDAR