BEGIN:VCALENDAR
VERSION:2.0
PRODID:-//Qalipu - ECPv4.5.13//NONSGML v1.0//EN
CALSCALE:GREGORIAN
METHOD:PUBLISH
X-WR-CALNAME:Qalipu
X-ORIGINAL-URL:https://qalipu.ca
X-WR-CALDESC:Events for Qalipu
BEGIN:VEVENT
DTSTART;TZID=UTC-2.5:20210426T090000
DTEND;TZID=UTC-2.5:20210502T170000
DTSTAMP:20260421T021127
CREATED:20210305T152536Z
LAST-MODIFIED:20210305T192559Z
UID:13453-1619427600-1619974800@qalipu.ca
SUMMARY:Mineral Prospecting Course
DESCRIPTION:The Qalipu First Nation Band in partnership with the Newfoundland and Labrador Prospectors Association will be offering a 9-day program in Mineral Prospecting in Gander\, NL The classroom component will run daily from 9-5 pm from Monday – Sunday. An additional 2 days (Sat-Sun at a later date to be determined) will provide participants with practical experience in the field.\n\n \nAll training and tool costs will be fully covered.\n \n\n \nCheck out the poster above for further information or email ymacdonald@qalipu.ca\nDeadline to apply: March 19\, 2021\n \n
URL:https://qalipu.ca/event/mineral-prospecting-course/
ATTACH;FMTTYPE=image/png:https://qalipu.ca/qalipu/wp-content/uploads/2021/03/Prospecting-course-poster-draft-v3-2.png
END:VEVENT
END:VCALENDAR