BEGIN:VCALENDAR
VERSION:2.0
PRODID:-//Qalipu - ECPv4.5.13//NONSGML v1.0//EN
CALSCALE:GREGORIAN
METHOD:PUBLISH
X-WR-CALNAME:Qalipu
X-ORIGINAL-URL:https://qalipu.ca
X-WR-CALDESC:Events for Qalipu
BEGIN:VEVENT
DTSTART;TZID=UTC-2.5:20210708T180000
DTEND;TZID=UTC-2.5:20210708T193000
DTSTAMP:20260419T165110
CREATED:20210617T163125Z
LAST-MODIFIED:20210617T163125Z
UID:13919-1625767200-1625772600@qalipu.ca
SUMMARY:RCMP Recruitment Session
DESCRIPTION: \nTo register for session: https://www.surveymonkey.com/r/7CWKSFZ \n
URL:https://qalipu.ca/event/rcmp-recruitment-session/
CATEGORIES:General
END:VEVENT
END:VCALENDAR