BEGIN:VCALENDAR
VERSION:2.0
PRODID:-//Qalipu - ECPv4.5.13//NONSGML v1.0//EN
CALSCALE:GREGORIAN
METHOD:PUBLISH
X-WR-CALNAME:Qalipu
X-ORIGINAL-URL:https://qalipu.ca
X-WR-CALDESC:Events for Qalipu
BEGIN:VEVENT
DTSTART;TZID=UTC-2.5:20210718T120000
DTEND;TZID=UTC-2.5:20210718T160000
DTSTAMP:20260420T152518
CREATED:20210629T181431Z
LAST-MODIFIED:20210629T182330Z
UID:13940-1626609600-1626624000@qalipu.ca
SUMMARY:Drum Making - Corner Brook
DESCRIPTION: \nRegistration link: surveymonkey.com/r/SDSN3GH \n
URL:https://qalipu.ca/event/drum-making-corner-brook/
CATEGORIES:General
END:VEVENT
END:VCALENDAR