BEGIN:VCALENDAR
VERSION:2.0
PRODID:-//Qalipu - ECPv4.5.13//NONSGML v1.0//EN
CALSCALE:GREGORIAN
METHOD:PUBLISH
X-WR-CALNAME:Qalipu
X-ORIGINAL-URL:https://qalipu.ca
X-WR-CALDESC:Events for Qalipu
BEGIN:VEVENT
DTSTART;TZID=UTC-2.5:20210922T110000
DTEND;TZID=UTC-2.5:20210922T110000
DTSTAMP:20260420T050203
CREATED:20210910T150640Z
LAST-MODIFIED:20210921T171453Z
UID:14248-1632308400-1632308400@qalipu.ca
SUMMARY:10 Year Celebration
DESCRIPTION:Qalipu First Nation Invites All of You to Celebrate 10 years with us in Food\, Song\, Dance\, and More across Ktaqmkuk on Wednesday\, September 22\, 2021! Times may vary by location beginning 11:00am and 12:00PM see invitations below. Please call (709) 634-5163 if you have any questions. \nInvitations: \nCorner Brook at Majestic Lawn\nGlenwood at Band Office\nSt. George’s at Band Office\nGrand Falls-Windsor at Band Office\nStephenville at Kin Square\nNo’kmaq Village at Powwow Grounds Updated: 11:30am – 12:30pm\nPenwaaq L’nu’k at Mi’kmaw Centre \n
URL:https://qalipu.ca/event/10-year-celebration/
ATTACH;FMTTYPE=image/jpeg:https://qalipu.ca/qalipu/wp-content/uploads/2021/09/Cover-Photo-10Year.jpg
END:VEVENT
END:VCALENDAR