BEGIN:VCALENDAR
VERSION:2.0
PRODID:-//Qalipu - ECPv4.5.13//NONSGML v1.0//EN
CALSCALE:GREGORIAN
METHOD:PUBLISH
X-WR-CALNAME:Qalipu
X-ORIGINAL-URL:https://qalipu.ca
X-WR-CALDESC:Events for Qalipu
BEGIN:VEVENT
DTSTART;TZID=UTC-2.5:20211121T130000
DTEND;TZID=UTC-2.5:20211121T130000
DTSTAMP:20260420T050430
CREATED:20211109T163557Z
LAST-MODIFIED:20211110T190251Z
UID:14678-1637499600-1637499600@qalipu.ca
SUMMARY:Swearing-In Ceremony
DESCRIPTION:Pre-registration is now open for the Swearing-in Ceremony of the 2021-2024 Chief and Council being held Sunday\, November 21st beginning 1:00pm at the Greenwood Inn and Suites in Corner Brook. \nAttendance in-person requires PRE-REGISTRATION: Friends and family who will be attending together can pre-register as a group for the purpose of capacity restrictions and social distanced assigned seating. \nTo pre-register you can call 709-634-5111 or email communications@qalipu.ca before deadline of November 19th at 12:00pm. You must state your name and phone number for your pre-registration in your email or in the event you are sent to telephone voicemail. \nThe ceremony venue requires PROOF OF VACCINATION to be presented upon entry. \nThe ceremony will also be streamed live via Qalipu First Nation Facebook Page: facebook.com/QalipuFirstNation \n
URL:https://qalipu.ca/event/swearing-in-ceremony-2/
LOCATION:48 West Street\, Corner Brook\, NL\, A2H 2Z2
CATEGORIES:General
ATTACH;FMTTYPE=image/jpeg:https://qalipu.ca/qalipu/wp-content/uploads/2021/11/Chief-and-council.jpg
END:VEVENT
END:VCALENDAR