BEGIN:VCALENDAR
VERSION:2.0
PRODID:-//Qalipu - ECPv4.5.13//NONSGML v1.0//EN
CALSCALE:GREGORIAN
METHOD:PUBLISH
X-WR-CALNAME:Qalipu
X-ORIGINAL-URL:https://qalipu.ca
X-WR-CALDESC:Events for Qalipu
BEGIN:VEVENT
DTSTART;TZID=UTC-3.5:20230907T190000
DTEND;TZID=UTC-3.5:20230907T190000
DTSTAMP:20260426T031050
CREATED:20230824T164200Z
LAST-MODIFIED:20230824T164200Z
UID:17558-1694113200-1694113200@qalipu.ca
SUMMARY:Corner Brook Ward Meeting
DESCRIPTION:Band members from the Corner Brook area are invited to join Ward Councilor Sherry Dean to get updates on band business\, ask questions and chat with your elected member of Council. \nSeptember 7th at 7:00 PM at the Qalipu Community Room\, located at 1 Church Street\, Corner Brook \n
URL:https://qalipu.ca/event/corner-brook-ward-meeting-9/
LOCATION:1 Church Street\, Corner Brook\, NL\, A2H 2Z4\, Canada
CATEGORIES:Ward Meetings
ATTACH;FMTTYPE=image/png:https://qalipu.ca/qalipu/wp-content/uploads/2023/08/Sherry-Dean.png
END:VEVENT
END:VCALENDAR