BEGIN:VCALENDAR
VERSION:2.0
PRODID:-//Qalipu - ECPv4.5.13//NONSGML v1.0//EN
CALSCALE:GREGORIAN
METHOD:PUBLISH
X-WR-CALNAME:Qalipu
X-ORIGINAL-URL:https://qalipu.ca
X-WR-CALDESC:Events for Qalipu
BEGIN:VEVENT
DTSTART;TZID=UTC-2.5:20260324T100000
DTEND;TZID=UTC-2.5:20260324T160000
DTSTAMP:20260424T004423
CREATED:20260309T183552Z
LAST-MODIFIED:20260309T183552Z
UID:21001-1774346400-1774368000@qalipu.ca
SUMMARY:CNA Connector Career Fair
DESCRIPTION:💼 Connecting Members with Opportunities \nThe Education & Training Department will be attending the CNA Connector Career Fair on Wednesday\, March 24\, from 10 AM–4 PM in the Main Atrium at CNA\, Corner Brook Campus. \nWe’re here to connect members with employment opportunities\, including our Graduate Incentive Program and community job bank — resources designed to help members find jobs and take the next step in their careers. \nHave questions about post-secondary funding? Bring them along — we’ll be happy to answer! Stop by\, say hello\, and see how we can support your education and career goals. \n  \n
URL:https://qalipu.ca/event/cna-connector-career-fair/
LOCATION:141 O’Connell Drive\, Corner Brook\, NL\, A2H 6H6\, Canada
ATTACH;FMTTYPE=image/jpeg:https://qalipu.ca/qalipu/wp-content/uploads/2026/03/CNA-Career-Fair.jpg
END:VEVENT
END:VCALENDAR