BEGIN:VCALENDAR
VERSION:2.0
PRODID:-//Qalipu - ECPv4.5.13//NONSGML v1.0//EN
CALSCALE:GREGORIAN
METHOD:PUBLISH
X-WR-CALNAME:Qalipu
X-ORIGINAL-URL:https://qalipu.ca
X-WR-CALDESC:Events for Qalipu
BEGIN:VEVENT
DTSTART;TZID=UTC-2.5:20260328T090000
DTEND;TZID=UTC-2.5:20260328T090000
DTSTAMP:20260423T080202
CREATED:20260313T130344Z
LAST-MODIFIED:20260313T130344Z
UID:21042-1774688400-1774688400@qalipu.ca
SUMMARY:Meeting of Chief and Council
DESCRIPTION:The next meeting of Chief and Council is scheduled for Saturday\, March 28\, 2026\, at 9:00 a.m. in the Qalipu Community Room\, 1 Church Street\, Corner Brook. \nRegistration is required to attend the meeting in person. The deadline to register is Friday\, March 20\, 2026. \nMembers wishing to attend can contact Natasha by phone at 709-634-6895 or email at nwhite@qalipu.ca\, or Amanda by phone at 709-634-5111 or email at amanda.gaudett@qalipu.ca. \nPlease note that delays in the meeting start time can occur. We kindly ask for your patience and understanding. \nMembers can view the livestream by logging in to their KINU membership profile: https://mala.qalipu.ca/ginu/login.aspx \n
URL:https://qalipu.ca/event/meeting-of-chief-and-council-9/
LOCATION:1 Church Street\, Corner Brook\, NL\, A2H 2Z4\, Canada
CATEGORIES:Council Meeting
ATTACH;FMTTYPE=image/png:https://qalipu.ca/qalipu/wp-content/uploads/2023/07/Meeting-of-Chief-and-Council-1.png
END:VEVENT
BEGIN:VEVENT
DTSTART;TZID=UTC-2.5:20260328T180000
DTEND;TZID=UTC-2.5:20260328T200000
DTSTAMP:20260423T080202
CREATED:20260326T155341Z
LAST-MODIFIED:20260326T155356Z
UID:21065-1774720800-1774728000@qalipu.ca
SUMMARY:Paniaq (Spring Begins) Snowshoe & Fireside Social!
DESCRIPTION:Join us Saturday\, March 28\, 6–8 PM. Enjoy the trails\, then warm up around the campfire with marshmallows and wieners. A fun way to welcome spring and gather with community! \nAll are welcome to attend. Please dress appropriately for the weather. \n
URL:https://qalipu.ca/event/paniaq-spring-begins-snowshoe-fireside-social/
LOCATION:NL
CATEGORIES:General
ATTACH;FMTTYPE=image/png:https://qalipu.ca/qalipu/wp-content/uploads/2026/03/Candlelit-Snowshoe-walk-3.png
END:VEVENT
END:VCALENDAR