BEGIN:VCALENDAR
VERSION:2.0
PRODID:-//Qalipu - ECPv4.5.13//NONSGML v1.0//EN
CALSCALE:GREGORIAN
METHOD:PUBLISH
X-WR-CALNAME:Qalipu
X-ORIGINAL-URL:https://qalipu.ca
X-WR-CALDESC:Events for Qalipu
BEGIN:VEVENT
DTSTART;TZID=UTC-2.5:20260401T130000
DTEND;TZID=UTC-2.5:20260401T153000
DTSTAMP:20260421T224851
CREATED:20260312T141433Z
LAST-MODIFIED:20260312T141433Z
UID:21020-1775048400-1775057400@qalipu.ca
SUMMARY:Medicine Pouch Wellness Workshop
DESCRIPTION:Join the first session in our Medicine Pouch Wellness Workshop Series! Explore wellness and self-care through making your own medicine pouch to take home. \n📅 April 1 | 🕐 1:00 PM – 3:30 PM\n📍 Qalipu Community Room\, 1 Church Street\, Corner Brook \nThis workshop is for ages 16+. Priority will be given to QFN members. Registration is required and closes March 27 at 4:00 PM. Spaces are limited – fill out the form and you will be contacted to confirm your spot. \n🔗 Register here: https://docs.google.com/forms/d/e/1FAIpQLSfyX__wbLBVLmXaxcZOOLj1-Sbr9fD-A5PN1Ch25ar26_WK4w/viewform \n
URL:https://qalipu.ca/event/medicine-pouch-wellness-workshop/
LOCATION:1 Church Street\, Corner Brook\, NL\, A2H 2Z4\, Canada
CATEGORIES:General
ATTACH;FMTTYPE=image/jpeg:https://qalipu.ca/qalipu/wp-content/uploads/2026/03/Medicine-Bag-Workshop-1.jpg
END:VEVENT
BEGIN:VEVENT
DTSTART;TZID=UTC-2.5:20260426T090000
DTEND;TZID=UTC-2.5:20260426T090000
DTSTAMP:20260421T224851
CREATED:20260404T145355Z
LAST-MODIFIED:20260414T114031Z
UID:21132-1777194000-1777194000@qalipu.ca
SUMMARY:Western Annual General Assembly
DESCRIPTION:Important Notice: \nThe Rescheduled Western Annual General Assembly of Qalipu First Nation will take place on Sunday\, 26 April 2026\, starting at 9:00 AM at Greenwood Inn & Suites\, 48 West Street\, Corner Brook. \n\n\n\nWestern AGA Agenda\nLink to Agenda\nQalipu Mi’kmaq First Nation Band Financial Statements as of March 31\, 2024\nLink to Financial Statements and Annex A | Link to Annex B\n\n\n\nAll registered members of Qalipu First Nation are invited to attend. Please register upon arrival and bring your status card. \nMembers who wish to attend virtually can log into their KINU profile (Link to KINU). \nPlease note that the meeting may start later than scheduled or run longer than planned\, and\, in either instance\, we kindly ask for your patience and understanding. \nTo register in advance or for more information\, please contact Natasha White at nwhite@qalipu.ca or 709-634-6895. \n
URL:https://qalipu.ca/event/western-annual-general-assembly/
LOCATION:48 West Street\, Corner Brook\, NL\, A2H 2Z2
CATEGORIES:General
ATTACH;FMTTYPE=image/png:https://qalipu.ca/qalipu/wp-content/uploads/2026/04/Notice-of-Annual-General-Assembly-Wide-1.png
END:VEVENT
END:VCALENDAR