BEGIN:VCALENDAR
VERSION:2.0
PRODID:-//Qalipu - ECPv4.5.13//NONSGML v1.0//EN
CALSCALE:GREGORIAN
METHOD:PUBLISH
X-WR-CALNAME:Qalipu
X-ORIGINAL-URL:https://qalipu.ca
X-WR-CALDESC:Events for Qalipu
BEGIN:VEVENT
DTSTART;TZID=UTC-2.5:20250322T100000
DTEND;TZID=UTC-2.5:20250322T100000
DTSTAMP:20260421T045258
CREATED:20250307T124641Z
LAST-MODIFIED:20250307T124641Z
UID:19839-1742637600-1742637600@qalipu.ca
SUMMARY:Meeting of Chief and Council
DESCRIPTION:The next meeting of Chief and Council is scheduled for Saturday\, March 22\, at 10:00 a.m. in the Qalipu Community Room\, 1 Church Street. \nRegistration is required to attend the meeting. The deadline to register is Friday\, March 14\, 2025\, at 12:30 p.m. \nPlease note that delays in the meeting start time can be expected. We kindly ask for your patience and understanding. \nMembers wishing to attend can contact Natasha or Allyson by telephone or email:\n• Natasha: 709-634-6895 | Email: nlavers@qalipu.ca\n• Allyson: 709-634-5111 | Email: arobbins@qalipu.ca \nMembers can view the meeting’s livestream by logging in to their KINU membership profile: https://mala.qalipu.ca/ginu/login.aspx \n
URL:https://qalipu.ca/event/meeting-of-chief-and-council-4/
LOCATION:1 Church Street\, Corner Brook\, NL\, A2H 2Z4\, Canada
CATEGORIES:Council Meeting
ATTACH;FMTTYPE=image/png:https://qalipu.ca/qalipu/wp-content/uploads/2023/07/Meeting-of-Chief-and-Council-1.png
END:VEVENT
END:VCALENDAR