BEGIN:VCALENDAR
VERSION:2.0
PRODID:-//Qalipu - ECPv4.5.13//NONSGML v1.0//EN
CALSCALE:GREGORIAN
METHOD:PUBLISH
X-WR-CALNAME:Qalipu
X-ORIGINAL-URL:https://qalipu.ca
X-WR-CALDESC:Events for Qalipu
BEGIN:VEVENT
DTSTART;TZID=UTC-3.5:20220911T130000
DTEND;TZID=UTC-3.5:20220911T160000
DTSTAMP:20260424T023007
CREATED:20220906T132748Z
LAST-MODIFIED:20220906T132748Z
UID:15689-1662901200-1662912000@qalipu.ca
SUMMARY:6th Annual Grenfell Campus All Peoples Powwow
DESCRIPTION:
URL:https://qalipu.ca/event/6th-annual-grenfell-campus-all-peoples-powwow/
LOCATION:20 University Dr.\, Corner Brook\, NL\, A2H 5G4\, Canada
CATEGORIES:General
ATTACH;FMTTYPE=image/png:https://qalipu.ca/qalipu/wp-content/uploads/2022/09/Grenfell-All-Peoples-Powwow.png
END:VEVENT
END:VCALENDAR