BEGIN:VCALENDAR
VERSION:2.0
PRODID:-//Qalipu - ECPv4.5.13//NONSGML v1.0//EN
CALSCALE:GREGORIAN
METHOD:PUBLISH
X-WR-CALNAME:Qalipu
X-ORIGINAL-URL:https://qalipu.ca
X-WR-CALDESC:Events for Qalipu
BEGIN:VEVENT
DTSTART;TZID=UTC-3.5:20221211T140000
DTEND;TZID=UTC-3.5:20221211T140000
DTSTAMP:20260423T170737
CREATED:20221130T130719Z
LAST-MODIFIED:20221130T145035Z
UID:16173-1670767200-1670767200@qalipu.ca
SUMMARY:Service Members Agreement and Referendum – Grand Falls-Windsor Engagement Session
DESCRIPTION:Community Tour\nService Members Agreement and Referendum \n\nDecember 1st Virtual Engagement Session at 2:00 PM\nDecember 3rd Degrau at Migmaw Center\, 811 Oceanview Dr.\, at 2:00 PM\nDecember 3rd Stephenville at DSB Fowlow Lecture Threatre at 6:00 PM\nDecember 4th Flat Bay at the Peoples Complex at 2:00 PM\nDecember 4th St. George’s at the Royal Canadian Legion at 6:00 PM\nDecember 11th Grand Falls-Windsor at the Mount Peyton Hotel at 2:00 PM\nDecember 11th Glenwood at Glenwood Town Hall at 6:00 PM\nDecember 12th Gander at the Quality Hotel at 6:00 PM\nDecember 13th Virtual Engagement Session at 7:00 PM\nDecember 14th Corner Brook at the Glynmill Inn Grenfell Room at 6:00 PM\nDecember 15th Benoit’s Cove at the Town Hall at 6:00 PM\n\n
URL:https://qalipu.ca/event/service-members-agreement-and-referendum-grand-falls-windsor-engagement-session/
CATEGORIES:General
ATTACH;FMTTYPE=image/png:https://qalipu.ca/qalipu/wp-content/uploads/2022/11/MicrosoftTeams-image-4.png
END:VEVENT
BEGIN:VEVENT
DTSTART;TZID=UTC-3.5:20221211T180000
DTEND;TZID=UTC-3.5:20221211T180000
DTSTAMP:20260423T170737
CREATED:20221130T130850Z
LAST-MODIFIED:20221130T145014Z
UID:16175-1670781600-1670781600@qalipu.ca
SUMMARY:Service Members Agreement and Referendum – Glenwood Engagement Session
DESCRIPTION:Community Tour\nService Members Agreement and Referendum \n\nDecember 1st Virtual Engagement Session at 2:00 PM\nDecember 3rd Degrau at Migmaw Center\, 811 Oceanview Dr.\, at 2:00 PM\nDecember 3rd Stephenville at DSB Fowlow Lecture Threatre at 6:00 PM\nDecember 4th Flat Bay at the Peoples Complex at 2:00 PM\nDecember 4th St. George’s at the Royal Canadian Legion at 6:00 PM\nDecember 11th Grand Falls-Windsor at the Mount Peyton Hotel at 2:00 PM\nDecember 11th Glenwood at Glenwood Town Hall at 6:00 PM\nDecember 12th Gander at the Quality Hotel at 6:00 PM\nDecember 13th Virtual Engagement Session at 7:00 PM\nDecember 14th Corner Brook at the Glynmill Inn Grenfell Room at 6:00 PM\nDecember 15th Benoit’s Cove at the Town Hall at 6:00 PM\n\n
URL:https://qalipu.ca/event/service-members-agreement-and-referendum-glenwood-engagement-session/
CATEGORIES:General
ATTACH;FMTTYPE=image/png:https://qalipu.ca/qalipu/wp-content/uploads/2022/11/MicrosoftTeams-image-4.png
END:VEVENT
END:VCALENDAR