BEGIN:VCALENDAR
VERSION:2.0
PRODID:-//Qalipu - ECPv4.5.13//NONSGML v1.0//EN
CALSCALE:GREGORIAN
METHOD:PUBLISH
X-WR-CALNAME:Qalipu
X-ORIGINAL-URL:https://qalipu.ca
X-WR-CALDESC:Events for Qalipu
BEGIN:VEVENT
DTSTART;TZID=UTC-3.5:20230204T130000
DTEND;TZID=UTC-3.5:20230204T160000
DTSTAMP:20260423T085255
CREATED:20230113T140410Z
LAST-MODIFIED:20230113T140410Z
UID:16303-1675515600-1675526400@qalipu.ca
SUMMARY:Apuknajit Winter Feast
DESCRIPTION:The Corner Brook Aboriginal Women’s Association will host their annual Apuknajit Winter Feast at Bennett Hall\, 11 West Street\, on Saturday\, February 4th from 1-4 pm. \nThis is a time to come together as Mi’kmaq people to mark Apuknajit\, the Spirit of the mid-winter sun (“when the sun is blinding”). \nThere will be smudging\, drumming\, a feast\, tickets for prizes\, display tables\, and craft vendor tables. Attendance is free. Questions can be sent to: cbawa.secretary@gmail.com \n
URL:https://qalipu.ca/event/apuknajit-winter-feast/
LOCATION:11 West Street\, Corner Brook\, NL\, A2H 2Y6\, Canada
CATEGORIES:General
ATTACH;FMTTYPE=image/png:https://qalipu.ca/qalipu/wp-content/uploads/2023/01/Apuknajit-Winter-Feast.png
END:VEVENT
END:VCALENDAR