BEGIN:VCALENDAR
VERSION:2.0
PRODID:-//Qalipu - ECPv4.5.13//NONSGML v1.0//EN
CALSCALE:GREGORIAN
METHOD:PUBLISH
X-WR-CALNAME:Qalipu
X-ORIGINAL-URL:https://qalipu.ca
X-WR-CALDESC:Events for Qalipu
BEGIN:VEVENT
DTSTART;VALUE=DATE:20230310
DTEND;VALUE=DATE:20230318
DTSTAMP:20260423T043032
CREATED:20230217T164516Z
LAST-MODIFIED:20230302T161452Z
UID:16548-1678406400-1679183999@qalipu.ca
SUMMARY:Reviving Mi'kmaw Art - St. John's
DESCRIPTION:  \n
URL:https://qalipu.ca/event/reviving-mikmaw-art-st-johns/
LOCATION:9 Bonaventure Ave\, St. John's\, NL\, A1C 5P9\, Canada
CATEGORIES:General
ATTACH;FMTTYPE=image/png:https://qalipu.ca/qalipu/wp-content/uploads/2023/02/Reviving-Mikmaw-Art-St.-Johns-1.png
END:VEVENT
END:VCALENDAR