BEGIN:VCALENDAR
VERSION:2.0
PRODID:-//Qalipu - ECPv4.5.13//NONSGML v1.0//EN
CALSCALE:GREGORIAN
METHOD:PUBLISH
X-WR-CALNAME:Qalipu
X-ORIGINAL-URL:https://qalipu.ca
X-WR-CALDESC:Events for Qalipu
BEGIN:VEVENT
DTSTART;TZID=UTC-3.5:20230503T180000
DTEND;TZID=UTC-3.5:20230503T190000
DTSTAMP:20260422T190058
CREATED:20230421T112039Z
LAST-MODIFIED:20230421T112039Z
UID:16924-1683136800-1683140400@qalipu.ca
SUMMARY:Canada Learning Bond Information Session - Grand Falls-Windsor
DESCRIPTION:
URL:https://qalipu.ca/event/canada-learning-bond-information-session-grand-falls-windsor/
LOCATION:28 Hardy Ave\, Grand Falls-Windsor\, NL\, Canada
CATEGORIES:General
ATTACH;FMTTYPE=image/png:https://qalipu.ca/qalipu/wp-content/uploads/2023/04/CLB-info-session-Grand-Falls-Windsor-1.png
END:VEVENT
END:VCALENDAR