BEGIN:VCALENDAR
VERSION:2.0
PRODID:-//Qalipu - ECPv4.5.13//NONSGML v1.0//EN
CALSCALE:GREGORIAN
METHOD:PUBLISH
X-WR-CALNAME:Qalipu
X-ORIGINAL-URL:https://qalipu.ca
X-WR-CALDESC:Events for Qalipu
BEGIN:VEVENT
DTSTART;TZID=UTC-3.5:20230508T120000
DTEND;TZID=UTC-3.5:20230508T150000
DTSTAMP:20260422T185719
CREATED:20230503T154327Z
LAST-MODIFIED:20230503T154327Z
UID:17027-1683547200-1683558000@qalipu.ca
SUMMARY:Learn to Tan Fish Leather with Isabella White
DESCRIPTION: \nLearn to tan fish leather with Isabella White\nHappening Monday\, May 8\, 2023\n12:00 – 3:00 PM\nSt. George’s Legion\, St. George’s\, NL \nRegister here: https://www.surveymonkey.com/r/8BBTFMK \nOnly those selected for the workshop will be notified. Space is limited. \n  \n  \n
URL:https://qalipu.ca/event/learn-to-tan-fish-leather-with-isabella-white/
CATEGORIES:General
END:VEVENT
END:VCALENDAR