BEGIN:VCALENDAR
VERSION:2.0
PRODID:-//Qalipu - ECPv4.5.13//NONSGML v1.0//EN
CALSCALE:GREGORIAN
METHOD:PUBLISH
X-WR-CALNAME:Qalipu
X-ORIGINAL-URL:https://qalipu.ca
X-WR-CALDESC:Events for Qalipu
BEGIN:VEVENT
DTSTART;TZID=UTC-3.5:20230513T130000
DTEND;TZID=UTC-3.5:20230513T150000
DTSTAMP:20260422T225428
CREATED:20230504T114229Z
LAST-MODIFIED:20230504T114229Z
UID:17066-1683982800-1683990000@qalipu.ca
SUMMARY:Dreamcatcher Workshop with Abigail Young-Churchill
DESCRIPTION: \nMay 13th\, 1-3 PM\nSt. George’s\nRoyal Canadian Legion \nRegistration is required. Only those selected (by random draw) for the workshop will be notified. \nRegister here: https://www.surveymonkey.com/r/NDKR7CF \n
URL:https://qalipu.ca/event/dreamcatcher-workshop-with-abigail-young-churchill/
CATEGORIES:General
END:VEVENT
END:VCALENDAR