BEGIN:VCALENDAR
VERSION:2.0
PRODID:-//Qalipu - ECPv4.5.13//NONSGML v1.0//EN
CALSCALE:GREGORIAN
METHOD:PUBLISH
X-WR-CALNAME:Qalipu
X-ORIGINAL-URL:https://qalipu.ca
X-WR-CALDESC:Events for Qalipu
BEGIN:VEVENT
DTSTART;TZID=UTC-3.5:20230516T090000
DTEND;TZID=UTC-3.5:20230516T170000
DTSTAMP:20260422T185913
CREATED:20230503T155724Z
LAST-MODIFIED:20230503T155724Z
UID:17037-1684227600-1684256400@qalipu.ca
SUMMARY:Ribbon Skirt Workshop (Flat Bay)
DESCRIPTION: \nFlat Bay\nMay 16\, 2023\n9:00 AM – 5:00 PM\nRegistration is required. Only those selected (by random draw) for the workshop will be contacted. \nPlease register here: https://www.surveymonkey.com/r/JR3WG79 \n
URL:https://qalipu.ca/event/ribbon-skirt-workshop-flat-bay/
CATEGORIES:General
END:VEVENT
END:VCALENDAR