BEGIN:VCALENDAR
VERSION:2.0
PRODID:-//Qalipu - ECPv4.5.13//NONSGML v1.0//EN
CALSCALE:GREGORIAN
METHOD:PUBLISH
X-WR-CALNAME:Qalipu
X-ORIGINAL-URL:https://qalipu.ca
X-WR-CALDESC:Events for Qalipu
BEGIN:VEVENT
DTSTART;VALUE=DATE:20230610
DTEND;VALUE=DATE:20230610
DTSTAMP:20260422T140552
CREATED:20230529T130001Z
LAST-MODIFIED:20230529T144156Z
UID:17193-1686355200-1686441599@qalipu.ca
SUMMARY:Dreamcatcher Workshop
DESCRIPTION: \nThere will be a dreamcatcher workshop on June 10th in St. Albans.\nRegistration is required.\nOnly those selected (by random draw) will be contacted to confirm registration.\nRegister here: https://www.surveymonkey.com/r/HYMJDSW \n
URL:https://qalipu.ca/event/dreamcatcher-workshop/
CATEGORIES:General
END:VEVENT
END:VCALENDAR