BEGIN:VCALENDAR
VERSION:2.0
PRODID:-//Qalipu - ECPv4.5.13//NONSGML v1.0//EN
CALSCALE:GREGORIAN
METHOD:PUBLISH
X-WR-CALNAME:Qalipu
X-ORIGINAL-URL:https://qalipu.ca
X-WR-CALDESC:Events for Qalipu
BEGIN:VEVENT
DTSTART;VALUE=DATE:20230621
DTEND;VALUE=DATE:20230621
DTSTAMP:20260422T140920
CREATED:20230605T132123Z
LAST-MODIFIED:20230606T160950Z
UID:17237-1687305600-1687391999@qalipu.ca
SUMMARY:National Indigenous Peoples Day - Corner Brook
DESCRIPTION: \n
URL:https://qalipu.ca/event/national-indigenous-peoples-day-3/
CATEGORIES:General
END:VEVENT
BEGIN:VEVENT
DTSTART;TZID=UTC-3.5:20230621T110000
DTEND;TZID=UTC-3.5:20230621T110000
DTSTAMP:20260422T140920
CREATED:20230608T105238Z
LAST-MODIFIED:20230608T105238Z
UID:17260-1687345200-1687345200@qalipu.ca
SUMMARY:National Indigenous Peoples Day - Badger
DESCRIPTION: \n
URL:https://qalipu.ca/event/national-indigenous-peoples-day-badger/
CATEGORIES:General
END:VEVENT
BEGIN:VEVENT
DTSTART;TZID=UTC-3.5:20230621T113000
DTEND;TZID=UTC-3.5:20230621T133000
DTSTAMP:20260422T140920
CREATED:20230606T161221Z
LAST-MODIFIED:20230606T161221Z
UID:17244-1687347000-1687354200@qalipu.ca
SUMMARY:National Indigenous Peoples Day - Glenwood
DESCRIPTION: \n
URL:https://qalipu.ca/event/national-indigenous-peoples-day-glenwood/
CATEGORIES:General
END:VEVENT
END:VCALENDAR