BEGIN:VCALENDAR
VERSION:2.0
PRODID:-//Qalipu - ECPv4.5.13//NONSGML v1.0//EN
CALSCALE:GREGORIAN
METHOD:PUBLISH
X-WR-CALNAME:Qalipu
X-ORIGINAL-URL:https://qalipu.ca
X-WR-CALDESC:Events for Qalipu
BEGIN:VEVENT
DTSTART;TZID=UTC-3.5:20230917T110000
DTEND;TZID=UTC-3.5:20230917T150000
DTSTAMP:20260422T001331
CREATED:20230906T133410Z
LAST-MODIFIED:20230906T133410Z
UID:17611-1694948400-1694962800@qalipu.ca
SUMMARY:Grenfell Campus 7th Annual All-Nations Powwow
DESCRIPTION: \n
URL:https://qalipu.ca/event/grenfell-campus-7th-annual-all-nations-powwow/
CATEGORIES:General
END:VEVENT
END:VCALENDAR