BEGIN:VCALENDAR
VERSION:2.0
PRODID:-//Qalipu - ECPv4.5.13//NONSGML v1.0//EN
CALSCALE:GREGORIAN
METHOD:PUBLISH
X-WR-CALNAME:Qalipu
X-ORIGINAL-URL:https://qalipu.ca
X-WR-CALDESC:Events for Qalipu
BEGIN:VEVENT
DTSTART;TZID=UTC-3.5:20230919T173000
DTEND;TZID=UTC-3.5:20230919T193000
DTSTAMP:20260422T001718
CREATED:20230914T135312Z
LAST-MODIFIED:20230914T135506Z
UID:17681-1695144600-1695151800@qalipu.ca
SUMMARY:Youth Mural-Making Event
DESCRIPTION: \n
URL:https://qalipu.ca/event/youth-mural-making-event/
LOCATION:1 Church Street\, Corner Brook\, NL\, A2H 2Z4\, Canada
CATEGORIES:General
END:VEVENT
END:VCALENDAR