BEGIN:VCALENDAR
VERSION:2.0
PRODID:-//Qalipu - ECPv4.5.13//NONSGML v1.0//EN
CALSCALE:GREGORIAN
METHOD:PUBLISH
X-WR-CALNAME:Qalipu
X-ORIGINAL-URL:https://qalipu.ca
X-WR-CALDESC:Events for Qalipu
BEGIN:VEVENT
DTSTART;VALUE=DATE:20231207
DTEND;VALUE=DATE:20231210
DTSTAMP:20260421T093351
CREATED:20231117T175943Z
LAST-MODIFIED:20231117T175943Z
UID:17878-1701907200-1702252799@qalipu.ca
SUMMARY:Save the Date! Virtual Mi’kmaw Art & Craft Auction
DESCRIPTION:Experience Qalipu will host an online auction of Mi’kmaw Art & Craft\, on December 7-10\, 2023\, on Facebook.  Just in time for your holiday shopping! \nDetails on how to sell your art & craft at the auction will be shared in the coming days\, along with details for shoppers like how to bid and win the item of your dreams! \nJoin the group now and stay tuned for more details: \nhttps://www.facebook.com/groups/2837911609771089/ \n
URL:https://qalipu.ca/event/save-the-date-virtual-mikmaw-art-craft-auction/
CATEGORIES:General
ATTACH;FMTTYPE=image/png:https://qalipu.ca/qalipu/wp-content/uploads/2023/11/Untitled-46.png
END:VEVENT
BEGIN:VEVENT
DTSTART;TZID=UTC-3.5:20231207T190000
DTEND;TZID=UTC-3.5:20231207T190000
DTSTAMP:20260421T093351
CREATED:20231201T114417Z
LAST-MODIFIED:20231201T114417Z
UID:17930-1701975600-1701975600@qalipu.ca
SUMMARY:Corner Brook Ward Meeting
DESCRIPTION: \n
URL:https://qalipu.ca/event/corner-brook-ward-meeting-10/
LOCATION:1 Church Street\, Corner Brook\, NL\, A2H 2Z4\, Canada
CATEGORIES:General,Ward Meetings
END:VEVENT
END:VCALENDAR