BEGIN:VCALENDAR
VERSION:2.0
PRODID:-//Qalipu - ECPv4.5.13//NONSGML v1.0//EN
CALSCALE:GREGORIAN
METHOD:PUBLISH
X-WR-CALNAME:Qalipu
X-ORIGINAL-URL:https://qalipu.ca
X-WR-CALDESC:Events for Qalipu
BEGIN:VEVENT
DTSTART;TZID=UTC-3.5:20240321T140000
DTEND;TZID=UTC-3.5:20240321T160000
DTSTAMP:20260420T190003
CREATED:20240314T161453Z
LAST-MODIFIED:20240314T161453Z
UID:18261-1711029600-1711036800@qalipu.ca
SUMMARY:Tea & Talk with Corner Brook Ward Councilor\, Sherry Dean
DESCRIPTION:
URL:https://qalipu.ca/event/tea-talk-with-corner-brook-ward-councilor-sherry-dean/
LOCATION:1 Church Street\, Corner Brook\, NL\, A2H 2Z4\, Canada
CATEGORIES:General
END:VEVENT
END:VCALENDAR