BEGIN:VCALENDAR
VERSION:2.0
PRODID:-//Qalipu - ECPv4.5.13//NONSGML v1.0//EN
CALSCALE:GREGORIAN
METHOD:PUBLISH
X-WR-CALNAME:Qalipu
X-ORIGINAL-URL:https://qalipu.ca
X-WR-CALDESC:Events for Qalipu
BEGIN:VEVENT
DTSTART;TZID=UTC-3.5:20240414T140000
DTEND;TZID=UTC-3.5:20240414T160000
DTSTAMP:20260420T135415
CREATED:20230911T123820Z
LAST-MODIFIED:20230911T123820Z
UID:17638-1713103200-1713110400@qalipu.ca
SUMMARY:Mi'kmaq Drumming and Cultural Circle [all inclusive]
DESCRIPTION:
URL:https://qalipu.ca/event/mikmaq-drumming-and-cultural-circle-all-inclusive-22/
LOCATION:30 Crestview Avenue\, Corner Brook\, NL\, Canada
CATEGORIES:General
END:VEVENT
END:VCALENDAR