BEGIN:VCALENDAR
VERSION:2.0
PRODID:-//Qalipu - ECPv4.5.13//NONSGML v1.0//EN
CALSCALE:GREGORIAN
METHOD:PUBLISH
X-WR-CALNAME:Qalipu
X-ORIGINAL-URL:https://qalipu.ca
X-WR-CALDESC:Events for Qalipu
BEGIN:VEVENT
DTSTART;TZID=UTC-3.5:20240514T130000
DTEND;TZID=UTC-3.5:20240514T150000
DTSTAMP:20260420T081658
CREATED:20240514T113454Z
LAST-MODIFIED:20240514T113458Z
UID:18521-1715691600-1715698800@qalipu.ca
SUMMARY:Tea & Talk with Corner Brook Ward Councilor Sherry Dean
DESCRIPTION:\nWith special guest\, RNC Officer Shawna Park delivering presentation for Police Week \n
URL:https://qalipu.ca/event/tea-talk-with-corner-brook-ward-councilor-sherry-dean-3/
LOCATION:1 Church Street\, Corner Brook\, NL\, A2H 2Z4\, Canada
CATEGORIES:General
END:VEVENT
END:VCALENDAR