BEGIN:VCALENDAR
VERSION:2.0
PRODID:-//Qalipu - ECPv4.5.13//NONSGML v1.0//EN
CALSCALE:GREGORIAN
METHOD:PUBLISH
X-WR-CALNAME:Qalipu
X-ORIGINAL-URL:https://qalipu.ca
X-WR-CALDESC:Events for Qalipu
BEGIN:VEVENT
DTSTART;TZID=UTC-2.5:20250914T140000
DTEND;TZID=UTC-2.5:20250914T160000
DTSTAMP:20260419T224147
CREATED:20250403T170537Z
LAST-MODIFIED:20250403T170537Z
UID:20019-1757858400-1757865600@qalipu.ca
SUMMARY:Mi’kmaq Drumming and Cultural Circle\, Inc.
DESCRIPTION:
URL:https://qalipu.ca/event/mikmaq-drumming-and-cultural-circle-inc-7/
LOCATION:1 Church Street\, Corner Brook\, NL\, A2H 2Z4\, Canada
CATEGORIES:General
END:VEVENT
END:VCALENDAR